BEGIN:VCALENDAR
VERSION:2.0
PRODID:-//wp-events-plugin.com//7.2.2.1//EN
TZID:Europe/Berlin
X-WR-TIMEZONE:Europe/Berlin
BEGIN:VEVENT
UID:43@sielow-cottbus.de
DTSTART;TZID=Europe/Berlin:20261031T150000
DTEND;TZID=Europe/Berlin:20261031T150000
DTSTAMP:20260301T124823Z
URL:https://sielow-cottbus.de/events/halloween-2/
SUMMARY:Halloween
DESCRIPTION:
LOCATION:Am Rodelberg\, Zur Spreeaue 25-2\, Cottbus\, 03055\, Deutschland
X-APPLE-STRUCTURED-LOCATION;VALUE=URI;X-ADDRESS=Zur Spreeaue 25-2\, Cottbus
 \, 03055\, Deutschland;X-APPLE-RADIUS=100;X-TITLE=Am Rodelberg:geo:0,0
END:VEVENT
BEGIN:VTIMEZONE
TZID:Europe/Berlin
X-LIC-LOCATION:Europe/Berlin
BEGIN:STANDARD
DTSTART:20261025T020000
TZOFFSETFROM:+0200
TZOFFSETTO:+0100
TZNAME:CET
END:STANDARD
END:VTIMEZONE
END:VCALENDAR