BEGIN:VCALENDAR
VERSION:2.0
PRODID:-//wp-events-plugin.com//7.2.2.1//EN
TZID:Europe/Berlin
X-WR-TIMEZONE:Europe/Berlin
BEGIN:VEVENT
UID:38@sielow-cottbus.de
DTSTART;TZID=Europe/Berlin:20260430T000000
DTEND;TZID=Europe/Berlin:20260430T000000
DTSTAMP:20260301T124021Z
URL:https://sielow-cottbus.de/events/maibaumstellen/
SUMMARY:Maibaumstellen
DESCRIPTION:
LOCATION:Freiwillige Feuerwehr Sielow\, Hüfner Weg 1\, Cottbus\, Brandenbu
 rg\, 03055\, Sielow\, Deutschland
X-APPLE-STRUCTURED-LOCATION;VALUE=URI;X-ADDRESS=Hüfner Weg 1\, Cottbus\, B
 randenburg\, 03055\, Sielow\, Deutschland;X-APPLE-RADIUS=100;X-TITLE=Freiw
 illige Feuerwehr Sielow:geo:0,0
END:VEVENT
BEGIN:VTIMEZONE
TZID:Europe/Berlin
X-LIC-LOCATION:Europe/Berlin
BEGIN:DAYLIGHT
DTSTART:20260329T030000
TZOFFSETFROM:+0100
TZOFFSETTO:+0200
TZNAME:CEST
END:DAYLIGHT
END:VTIMEZONE
END:VCALENDAR